BEGIN:VCALENDAR
PRODID:-//kirchenweb.ch gmbh//veranstaltungsausgabe v2.0//DE
VERSION:2.0
METHOD:PUBLISH
BEGIN:VEVENT
DTSTART:20260522T180000Z
DTEND:20260522T181500Z
LOCATION:Kath. Christkönigskirche Buechen-Staat\, Wartbüchel\, 9422
  Staad
TRANSP:OPAQUE
SEQUENCE:0
UID:2637-veranstaltung@ref-unteresrheintal.ch
DTSTAMP:20260424T183841Z
DESCRIPTION:Von verschiedenen Orten machen sich Christ*innen auf den Weg
  oder treffen sich direkt bei der Kath. Kirche Buechen-Staad.\n\nAuf dem
  Platz vor der Kirche mit der schönen Aussicht gibt es Lieder zum
  Mitsingen\, kurze Impulse und Zeit\, um miteinander ins Gespräch zu
  kommen.\n\nUm 19:15 Uhr seid ihr herzlich zu einer Suppe eingeladen. Bei
  schlechtem Wetter findet der Anlass im Trockenen statt.\n\nKontakt:
  Katharina Grillmeier\n\nWeitere Infos:
  https://www.ref-unteresrheintal.ch/veranstaltung/2637
SUMMARY:Miteinander im Gebet auf dem Weg
PRIORITY:5
X-MICROSOFT-CDO-IMPORTANCE:1
CLASS:PUBLIC
END:VEVENT
END:VCALENDAR
