BEGIN:VCALENDAR
PRODID:-//kirchenweb.ch gmbh//veranstaltungsausgabe v2.0//DE
VERSION:2.0
METHOD:PUBLISH
BEGIN:VEVENT
DTSTART:20260626T153000Z
DTEND:20260626T163000Z
LOCATION:Evang. Kirche St.Margrethen\, Schutzmühlestrasse\, 9430
  St.Margrethen
TRANSP:OPAQUE
SEQUENCE:0
UID:2631-veranstaltung@ref-unteresrheintal.ch
DTSTAMP:20260423T081443Z
DESCRIPTION:Fiire mit de Chliine ist ein ca. 30 minütiger kindgerechter
  Gottesdienst für die Kleinen in Begleitung. Wir sitzen auf Kissen im
  Chorraum der Kirche\, singen\, basteln\, beten und hören eine
  Geschichte. Nach der Feier sind alle in den Pfarrhaussaal zu einem Znacht
  eingeladen. Während die Kleinen spielen\, können sich die Grossen
  austauschen. \n\nPS.: Du bist mittlerweile in der Schule\, würdest aber
  gerne weiterhin kommen? Kein Problem! Solange es dir Spass macht\, komm
  vorbei. Du bist herzlich eingeladen! \n\nKontakt: Eva Nörpel-Hopisch\n
 \nWeitere Infos: https://www.ref-unteresrheintal.ch/veranstaltung/2631
SUMMARY:Fiire mit de Chliine
PRIORITY:5
X-MICROSOFT-CDO-IMPORTANCE:1
CLASS:PUBLIC
END:VEVENT
END:VCALENDAR
