BEGIN:VCALENDAR
PRODID:-//kirchenweb.ch gmbh//veranstaltungsausgabe v2.0//DE
VERSION:2.0
METHOD:PUBLISH
BEGIN:VEVENT
DTSTART:20260612T073000Z
DTEND:20260612T083000Z
LOCATION:Pfarrhaussaal St.Margrethen\, Schutzmühlestrasse 3\, 9430
  St.Margrethen
TRANSP:OPAQUE
SEQUENCE:0
UID:2627-veranstaltung@ref-unteresrheintal.ch
DTSTAMP:20260423T080344Z
DESCRIPTION:Wir basteln mit den Kleinen (1-4 Jahren) und ihrer Begleitung
  etwas Sommerliches. Bitte Kleidung tragen\, die schmutzig werden kann.\n
 \nKontakt: Eva Nörpel-Hopisch\n\nWeitere Infos:
  https://www.ref-unteresrheintal.ch/veranstaltung/2627
SUMMARY:Mini-Basteln
PRIORITY:5
X-MICROSOFT-CDO-IMPORTANCE:1
CLASS:PUBLIC
END:VEVENT
END:VCALENDAR
