BEGIN:VCALENDAR
PRODID:-//kirchenweb.ch gmbh//veranstaltungsausgabe v2.0//DE
VERSION:2.0
METHOD:PUBLISH
BEGIN:VEVENT
DTSTART:20260613T073000Z
DTEND:20260613T120000Z
LOCATION:Stiftsbezirk St.Gallen\, Klosterhof\, 9000 St.Gallen
TRANSP:OPAQUE
SEQUENCE:0
UID:2626-veranstaltung@ref-unteresrheintal.ch
DTSTAMP:20260422T145043Z
DESCRIPTION:Wir rücken Familien ins Zentrum! Nicht nur ins Zentrum von
  St. Gallen\, zwischen Kathedrale und Laurenzenkirche\, sondern
  überhaupt. Familien leisten sehr viel\, auch für die ganze
  Gesellschaft. Das Familienfest würdigt und verdankt diesen grossen
  Einsatz. Am Fest können Familien einfach mal sein\, die verschiedenen
  Programmpunkte geniessen und zusammen mit vielen anderen Familien einen
  tollen Tag erleben und gemeinsam den Glauben feiern.\nAlle Familien in
  ihren vielfältigen Formen sind eingeladen. Das Fest richtet sich an
  Kinder mit ihren Bezugspersonen: Mütter\, Väter\, Grosseltern\, Gotti\,
  Götti und alle\, die sich mit den Familien verbunden fühlen.\nDas Fest
  beginnt um 9.30 Uhr und endet um 15 Uhr und ist kostenlos. Wer erst
  später kommen kann oder früher wieder gehen muss: Kein Problem! Das
  Fest ist familienfreundlich unkompliziert und niedrigschwellig. Eine
  Anmeldung ist nicht nötig.\n\nhttp://www.familienfest-kunterbunt.ch\n
 \nKontakt: sekretariat.admin@ref-unteresrheintal.ch\n\nWeitere Infos:
  https://www.ref-unteresrheintal.ch/veranstaltung/2626
SUMMARY:Familienfest Kirche Kunterbunt in St.Gallen
PRIORITY:5
X-MICROSOFT-CDO-IMPORTANCE:1
CLASS:PUBLIC
END:VEVENT
END:VCALENDAR
