BEGIN:VCALENDAR
PRODID:-//kirchenweb.ch gmbh//veranstaltungsausgabe v2.0//DE
VERSION:2.0
METHOD:PUBLISH
BEGIN:VEVENT
DTSTART:20260605T140000Z
DTEND:20260605T150000Z
LOCATION:Pfarrhaussaal St.Margrethen\, Schutzmühlestrasse 3\, 9430
  St.Margrethen
TRANSP:OPAQUE
SEQUENCE:0
UID:2587-veranstaltung@ref-unteresrheintal.ch
DTSTAMP:20260401T105122Z
DESCRIPTION:Ein Projektchor für Kinder von der 1. bis zur 6. Klasse!\n
 \nHast du Lust zum gemeinsamen Singen? Dann bist du hier genau richtig!\n
 \nWir proben viermal\, bevor wir den Gottesdienst am Sonntag\, 28. Juni um
  9:30 Uhr in der Evangelischen Kirche St. Margrethen musikalisch
  gestalten.\n\nPerfekt\, um das Singen einmal auszuprobieren oder aber
  auch weiterzumachen.\nIch freu mich auf dich!\n\nKontakt: Katharina
  Grillmeier\n\nWeitere Infos:
  https://www.ref-unteresrheintal.ch/veranstaltung/2587
SUMMARY:Probe Chinderchörli
PRIORITY:5
X-MICROSOFT-CDO-IMPORTANCE:1
CLASS:PUBLIC
END:VEVENT
END:VCALENDAR
