BEGIN:VCALENDAR
PRODID:-//kirchenweb.ch gmbh//veranstaltungsausgabe v2.0//DE
VERSION:2.0
METHOD:PUBLISH
BEGIN:VEVENT
DTSTART:20260607T083000Z
DTEND:20260607T093000Z
LOCATION:Evang. Kirche Rheineck\, Hauptstrasse 36\, 9424 Rheineck
TRANSP:OPAQUE
SEQUENCE:0
UID:2573-veranstaltung@ref-unteresrheintal.ch
DTSTAMP:20260309T083847Z
DESCRIPTION:Gottesdienst mit Pfarreibeauftragten Alexander Burkart (Kath.
  Pfarrei Rheineck)\, Bea Hofer (Heilsarmee Rheineck)\, Pfrn. Barbara
  Signer (Evang.-ref. Kirchgemeinde Unteres Rheintal) und Jürgen Wagner
  (FEG Rheineck)\n\nKontakt: sekretariat.admin@ref-unteresrheintal.ch\n
 \nWeitere Infos: https://www.ref-unteresrheintal.ch/veranstaltung/2573
SUMMARY:Städli-Gottesdienst zum 750-Jahr-Jubiläum der Stadt Rheineck
PRIORITY:5
X-MICROSOFT-CDO-IMPORTANCE:1
CLASS:PUBLIC
END:VEVENT
END:VCALENDAR
