BEGIN:VCALENDAR
PRODID:-//kirchenweb.ch gmbh//veranstaltungsausgabe v2.0//DE
VERSION:2.0
METHOD:PUBLISH
BEGIN:VEVENT
DTSTART:20260429T170000Z
DTEND:20260429T183000Z
LOCATION:Evang. Kirchgemeindehaus Rheineck\, Kugelwisstrasse 5\, 9424
  Rheineck
TRANSP:OPAQUE
SEQUENCE:0
UID:2514-veranstaltung@ref-unteresrheintal.ch
DTSTAMP:20260410T163324Z
DESCRIPTION:Infoabend zur Veranstaltung "Nacht ohne Dach" am 30.Mai.\n
 \nEine Nacht ohne schützendes Dach. Von Wind\, Wetter\, Licht und
  störenden Geräuschen nur durch dünne Kartonwände getrennt. Ein
  einzigartiges Erlebnis\, welches das Bewusstsein für die weltweite Armut
  schärft und zugleich ein vergnügliches Gruppenerlebnis garantiert.\n
 \nEin/e BotschafterIn von "Nacht ohne Dach" besucht die Gruppe während
  dem Anlass und hält eine Präsentation. Darin wird visuell und
  interaktiv die Realität der globalen Armut und Ungerechtigkeit
  vermittelt und die Auswirkungen unseres Konsumverhaltens aufgezeigt. Ein
  Film von Jugendlichen in Peru veranschaulicht zudem das Problem der
  Landflucht und die Lösungsansätze von TearFund und unserer
  Partnerorganisation vor Ort.\n\nAlle Jugendlichen welche am NOD
  teilnehmen sind verbunden mit den Eltern an unserem Elterninfoabend für
  das Projekt NOD teilzunehmen. Hier wird erklärt\, warum wir dies machen
  und wesshalb Geld für dieses Projekt gesammelt wird.\n\nKontakt:
  Katharina Grillmeier\n\nWeitere Infos:
  https://www.ref-unteresrheintal.ch/veranstaltung/2514
SUMMARY:Infoabend Nacht ohne Dach
PRIORITY:5
X-MICROSOFT-CDO-IMPORTANCE:1
CLASS:PUBLIC
END:VEVENT
END:VCALENDAR
