BEGIN:VCALENDAR
PRODID:-//kirchenweb.ch gmbh//veranstaltungsausgabe v2.0//DE
VERSION:2.0
METHOD:PUBLISH
BEGIN:VEVENT
DTSTART:20260926T120000Z
DTEND:20260926T150000Z
LOCATION:Evang. Kirchgemeindehaus Rheineck\, Kugelwisstrasse 5\, 9424
  Rheineck
TRANSP:OPAQUE
SEQUENCE:0
UID:2485-veranstaltung@ref-unteresrheintal.ch
DTSTAMP:20260106T152358Z
DESCRIPTION:KUBUS \n\nFreizeitprogramm für Kinder 1. - 6. Klasse\n
 \nSamstag\, 7. Dezember 2024\n\n14 - 17 Uhr im evang. Kirchgemeindehaus\n
 \nDu bist herzlich eingeladen\, am Kubus Programm teilzunehmen! \nWir
  freuen uns auf viele interessierte Kinder.\n\n\nKontakt: KUBUS\, Elia
  Lauchenauer\, 076 / 535 05 34\n\nWeitere Infos:
  https://www.ref-unteresrheintal.ch/veranstaltung/2485
SUMMARY:KUBUS für Kinder
PRIORITY:5
X-MICROSOFT-CDO-IMPORTANCE:1
CLASS:PUBLIC
END:VEVENT
END:VCALENDAR
