BEGIN:VCALENDAR
PRODID:-//kirchenweb.ch gmbh//veranstaltungsausgabe v2.0//DE
VERSION:2.0
METHOD:PUBLISH
BEGIN:VEVENT
DTSTART:20261118T140000Z
DTEND:20261118T160000Z
LOCATION:Pfarrhaussaal St.Margrethen\, Schutzmühlestrasse 3\, 9430
  St.Margrethen
TRANSP:OPAQUE
SEQUENCE:0
UID:2451-veranstaltung@ref-unteresrheintal.ch
DTSTAMP:20251227T160436Z
DESCRIPTION:Wir beschäftigen uns mit verschiedenen Materialien und enden
  mit einem gemeinsamen Zvieri. Bitte Kleidung tragen\, die schmutzig
  werden kann. Alle Kinder ab Kindergartenalter sind herzlich eingeladen.\n
 \nKontakt: Eva Nörpel-Hopisch\n\nWeitere Infos:
  https://www.ref-unteresrheintal.ch/veranstaltung/2451
SUMMARY:Kreativ-Werkstatt
PRIORITY:5
X-MICROSOFT-CDO-IMPORTANCE:1
CLASS:PUBLIC
END:VEVENT
END:VCALENDAR
