BEGIN:VCALENDAR
PRODID:-//kirchenweb.ch gmbh//veranstaltungsausgabe v2.0//DE
VERSION:2.0
METHOD:PUBLISH
BEGIN:VEVENT
DTSTART:20261219T160000Z
DTEND:20261219T170000Z
LOCATION:Evang. Kirche St.Margrethen\, Schutzmühlestrasse\, 9430
  St.Margrethen
TRANSP:OPAQUE
SEQUENCE:0
UID:2424-veranstaltung@ref-unteresrheintal.ch
DTSTAMP:20251227T111015Z
DESCRIPTION:Kontakt: sekretariat.admin@ref-unteresrheintal.ch\n\nWeitere
  Infos: https://www.ref-unteresrheintal.ch/veranstaltung/2424
SUMMARY:Familien-Gottesdienst mit Krippenspiel in St.Margrethen
PRIORITY:5
X-MICROSOFT-CDO-IMPORTANCE:1
CLASS:PUBLIC
END:VEVENT
END:VCALENDAR
