BEGIN:VCALENDAR
PRODID:-//kirchenweb.ch gmbh//veranstaltungsausgabe v2.0//DE
VERSION:2.0
METHOD:PUBLISH
BEGIN:VEVENT
DTSTART:20261213T083000Z
DTEND:20261213T093000Z
LOCATION:Evang. Kirche St.Margrethen\, Schutzmühlestrasse\, 9430
  St.Margrethen
TRANSP:OPAQUE
SEQUENCE:0
UID:2422-veranstaltung@ref-unteresrheintal.ch
DTSTAMP:20251227T110408Z
DESCRIPTION:Kontakt: sekretariat.admin@ref-unteresrheintal.ch\n\nWeitere
  Infos: https://www.ref-unteresrheintal.ch/veranstaltung/2422
SUMMARY:Gottesdienst in St.Margrethen
PRIORITY:5
X-MICROSOFT-CDO-IMPORTANCE:1
CLASS:PUBLIC
END:VEVENT
END:VCALENDAR
