BEGIN:VCALENDAR
PRODID:-//kirchenweb.ch gmbh//veranstaltungsausgabe v2.0//DE
VERSION:2.0
METHOD:PUBLISH
BEGIN:VEVENT
DTSTART:20261202T170000Z
DTEND:20261202T180000Z
LOCATION:Evang. Kirche St.Margrethen\, Schutzmühlestrasse\, 9430
  St.Margrethen
TRANSP:OPAQUE
SEQUENCE:0
UID:2419-veranstaltung@ref-unteresrheintal.ch
DTSTAMP:20251227T110141Z
DESCRIPTION:Die Adventsmeditationen lassen uns von der Hektik im Advent
  Abstand nehmen. \nBei Kerzenschein\, Gesang und Impuls zur Ruhe kommen
  und sich auf den Advent einlassen. \n\nKontakt:
  sekretariat.admin@ref-unteresrheintal.ch\n\nWeitere Infos:
  https://www.ref-unteresrheintal.ch/veranstaltung/2419
SUMMARY:Adventsmeditation
PRIORITY:5
X-MICROSOFT-CDO-IMPORTANCE:1
CLASS:PUBLIC
END:VEVENT
END:VCALENDAR
