BEGIN:VCALENDAR
PRODID:-//kirchenweb.ch gmbh//veranstaltungsausgabe v2.0//DE
VERSION:2.0
METHOD:PUBLISH
BEGIN:VEVENT
DTSTART:20261122T083000Z
DTEND:20261122T093000Z
LOCATION:Evang. Kirche Rheineck\, Hauptstrasse 36\, 9424 Rheineck
TRANSP:OPAQUE
SEQUENCE:0
UID:2416-veranstaltung@ref-unteresrheintal.ch
DTSTAMP:20251227T151938Z
DESCRIPTION:Gottesdienst an Ewigkeitssonntag mit Abendmahl und Pfrn.
  Barbara Signer\n\nWir Gedenken unseren Verstorbenen.\n\nMitwirkung\n\n\n
 \nKontakt: sekretariat.admin@ref-unteresrheintal.ch\n\nWeitere Infos:
  https://www.ref-unteresrheintal.ch/veranstaltung/2416
SUMMARY:Gottesdienst mit Abendmahl
PRIORITY:5
X-MICROSOFT-CDO-IMPORTANCE:1
CLASS:PUBLIC
END:VEVENT
END:VCALENDAR
