BEGIN:VCALENDAR
PRODID:-//kirchenweb.ch gmbh//veranstaltungsausgabe v2.0//DE
VERSION:2.0
METHOD:PUBLISH
BEGIN:VEVENT
DTSTART:20261122T083000Z
DTEND:20261122T093000Z
LOCATION:Evang. Kirche St.Margrethen\, Schutzmühlestrasse\, 9430
  St.Margrethen
TRANSP:OPAQUE
SEQUENCE:0
UID:2415-veranstaltung@ref-unteresrheintal.ch
DTSTAMP:20251227T105410Z
DESCRIPTION:Gottesdienst an Ewigkeitssonntag mit Abendmahl und Pfrn. Eva
  Nörpel-Hopisch\n\nWir Gedenken unseren Verstorbenen.\n\nMitwirkung\n\n
 \nKontakt: sekretariat.admin@ref-unteresrheintal.ch\n\nWeitere Infos:
  https://www.ref-unteresrheintal.ch/veranstaltung/2415
SUMMARY:Gottesdienst an Ewigkeitsonntag mit Abendmahl in St.Margrethen
PRIORITY:5
X-MICROSOFT-CDO-IMPORTANCE:1
CLASS:PUBLIC
END:VEVENT
END:VCALENDAR
