BEGIN:VCALENDAR
PRODID:-//kirchenweb.ch gmbh//veranstaltungsausgabe v2.0//DE
VERSION:2.0
METHOD:PUBLISH
BEGIN:VEVENT
DTSTART:20260927T073000Z
DTEND:20260927T083000Z
LOCATION:Evang. Kirche Rheineck\, Hauptstrasse 36\, 9424 Rheineck
TRANSP:OPAQUE
SEQUENCE:0
UID:2404-veranstaltung@ref-unteresrheintal.ch
DTSTAMP:20251227T102006Z
DESCRIPTION:Gemeinsamer Gottesdienst mit Pfrn. Barbara Signer\n\nKontakt:
  sekretariat.admin@ref-unteresrheintal.ch\n\nWeitere Infos:
  https://www.ref-unteresrheintal.ch/veranstaltung/2404
SUMMARY:Gemeinsamer Gottesdienst in Rheineck
PRIORITY:5
X-MICROSOFT-CDO-IMPORTANCE:1
CLASS:PUBLIC
END:VEVENT
END:VCALENDAR
