BEGIN:VCALENDAR
PRODID:-//kirchenweb.ch gmbh//veranstaltungsausgabe v2.0//DE
VERSION:2.0
METHOD:PUBLISH
BEGIN:VEVENT
DTSTART:20260719T073000Z
DTEND:20260719T083000Z
LOCATION:Evang. Kirche St.Margrethen\, Schutzmühlestrasse\, 9430
  St.Margrethen
TRANSP:OPAQUE
SEQUENCE:0
UID:2390-veranstaltung@ref-unteresrheintal.ch
DTSTAMP:20251224T102546Z
DESCRIPTION:Gottesdienst mit Abendmahl und Pfrn. Barbara Signer\n\n
 \nKontakt: sekretariat.admin@ref-unteresrheintal.ch\n\nWeitere Infos:
  https://www.ref-unteresrheintal.ch/veranstaltung/2390
SUMMARY:Gemeinsamer Gottesdienst mit Abendmahl
PRIORITY:5
X-MICROSOFT-CDO-IMPORTANCE:1
CLASS:PUBLIC
END:VEVENT
END:VCALENDAR
