BEGIN:VCALENDAR
PRODID:-//kirchenweb.ch gmbh//veranstaltungsausgabe v2.0//DE
VERSION:2.0
METHOD:PUBLISH
BEGIN:VEVENT
DTSTART:20260621T073000Z
DTEND:20260621T083000Z
LOCATION:Evang. Kirche St.Margrethen\, Schutzmühlestrasse\, 9430
  St.Margrethen
TRANSP:OPAQUE
SEQUENCE:0
UID:2385-veranstaltung@ref-unteresrheintal.ch
DTSTAMP:20251224T101951Z
DESCRIPTION:Gottesdienst mit Pfr. Sven Hopisch\n\nMitwirkung: evang.
  Kirchenchor Buechen\, Evang. Kirchenchor Thal und ökum. Kirchenchor
  St.Margrethen\n\nKontakt: sekretariat.admin@ref-unteresrheintal.ch\n
 \nWeitere Infos: https://www.ref-unteresrheintal.ch/veranstaltung/2385
SUMMARY:Regionaler Gottesdienst in St.Margrethen
PRIORITY:5
X-MICROSOFT-CDO-IMPORTANCE:1
CLASS:PUBLIC
END:VEVENT
END:VCALENDAR
