BEGIN:VCALENDAR
PRODID:-//kirchenweb.ch gmbh//veranstaltungsausgabe v2.0//DE
VERSION:2.0
METHOD:PUBLISH
BEGIN:VEVENT
DTSTART:20260525T080000Z
DTEND:20260525T090000Z
LOCATION:Evang. Kirche Rheineck\, Hauptstrasse 36\, 9424 Rheineck
TRANSP:OPAQUE
SEQUENCE:0
UID:2380-veranstaltung@ref-unteresrheintal.ch
DTSTAMP:20251224T094620Z
DESCRIPTION:Gemeinsamer Gottesdienst mit Pfrn. Barbara Signer und Pfrn.
  Eva Nörpel-Hopisch\n\nKontakt: sekretariat.admin@ref-unteresrheintal.ch
 \n\nWeitere Infos: https://www.ref-unteresrheintal.ch/veranstaltung/2380
SUMMARY:Gemeinsamer Pfingst-Gottesdienst in Rheineck
PRIORITY:5
X-MICROSOFT-CDO-IMPORTANCE:1
CLASS:PUBLIC
END:VEVENT
END:VCALENDAR
