BEGIN:VCALENDAR
PRODID:-//kirchenweb.ch gmbh//veranstaltungsausgabe v2.0//DE
VERSION:2.0
METHOD:PUBLISH
BEGIN:VEVENT
DTSTART:20260524T080000Z
DTEND:20260524T090000Z
LOCATION:Evang. Kirche St.Margrethen\, Schutzmühlestrasse\, 9430
  St.Margrethen
TRANSP:OPAQUE
SEQUENCE:0
UID:2379-veranstaltung@ref-unteresrheintal.ch
DTSTAMP:20251224T094317Z
DESCRIPTION:Kontakt: sekretariat.admin@ref-unteresrheintal.ch\n\nWeitere
  Infos: https://www.ref-unteresrheintal.ch/veranstaltung/2379
SUMMARY:Gemeinsamer Konfirmationsgottesdienst in St.Margrethen
PRIORITY:5
X-MICROSOFT-CDO-IMPORTANCE:1
CLASS:PUBLIC
END:VEVENT
END:VCALENDAR
