BEGIN:VCALENDAR
PRODID:-//kirchenweb.ch gmbh//veranstaltungsausgabe v2.0//DE
VERSION:2.0
METHOD:PUBLISH
BEGIN:VEVENT
DTSTART:20260514T080000Z
DTEND:20260514T090000Z
LOCATION:Evang. Kirche St.Margrethen\, Schutzmühlestrasse\, 9430
  St.Margrethen
TRANSP:OPAQUE
SEQUENCE:0
UID:2376-veranstaltung@ref-unteresrheintal.ch
DTSTAMP:20251224T093836Z
DESCRIPTION:Gottesdienst mit Pfrn. Eva Nörpel-Hopisch und Pfrn. Barbara
  Signer\n\nAnschliessend sind alle auf eine Bratwurst eingeladen. Wir
  freuen uns über zahlreiche Salat- und/oder Dessertspenden.\n\nKontakt:
  sekretariat.admin@ref-unteresrheintal.ch\n\nWeitere Infos:
  https://www.ref-unteresrheintal.ch/veranstaltung/2376
SUMMARY:Gemeinsamer Auffahrtsgottesdienst in St.Margrethen
PRIORITY:5
X-MICROSOFT-CDO-IMPORTANCE:1
CLASS:PUBLIC
END:VEVENT
END:VCALENDAR
