BEGIN:VCALENDAR
PRODID:-//kirchenweb.ch gmbh//veranstaltungsausgabe v2.0//DE
VERSION:2.0
METHOD:PUBLISH
BEGIN:VEVENT
DTSTART:20260426T073000Z
DTEND:20260426T083000Z
LOCATION:Evang. Kirche St.Margrethen\, Schutzmühlestrasse\, 9430
  St.Margrethen
TRANSP:OPAQUE
SEQUENCE:0
UID:2370-veranstaltung@ref-unteresrheintal.ch
DTSTAMP:20260421T152140Z
DESCRIPTION:Es ist immer etwas Besonderes\, wenn die Schüler und
  Schülerinnen der dritten reformierten Klasse ins Abendmahl eingeführt
  werden. Sie gestalten einen Gottesdienst mit einem Theaterstück\,
  schreiben alle Texte selbst und backen das Brot fürs Abendmahl. \n\nDie
  Schüler freuen sich auf viele Besucher und Besucherinnen\, um mit ihnen
  ihre Einführung ins Abendmahl zu feiern. Anschliessend gibt es leckere
  alkoholfreie Cocktails\, gemixt von unseren Jugendlichen. \n\nHerzliche
  Einladung an Gross und Klein. \n\nKontakt:
  sekretariat.admin@ref-unteresrheintal.ch\n\nWeitere Infos:
  https://www.ref-unteresrheintal.ch/veranstaltung/2370
SUMMARY:Gemeinsamer Familien-Gottesdienst mit Abendmahl
PRIORITY:5
X-MICROSOFT-CDO-IMPORTANCE:1
CLASS:PUBLIC
END:VEVENT
END:VCALENDAR
