BEGIN:VCALENDAR
PRODID:-//kirchenweb.ch gmbh//veranstaltungsausgabe v2.0//DE
VERSION:2.0
METHOD:PUBLISH
BEGIN:VEVENT
DTSTART:20260624T100000Z
DTEND:20260624T110000Z
LOCATION:Restaurant Hecht\, Hauptstr. 51\, 9424 Rheineck
TRANSP:OPAQUE
SEQUENCE:0
UID:2289-veranstaltung@ref-unteresrheintal.ch
DTSTAMP:20251223T124323Z
DESCRIPTION:3-Gang-Menü: Vorspeise-Hauptgang-Dessert\nVegetarisch CHF
  17.50 \nFleisch CHF 20.50\n(ohne Getränke)\n\nKontakt: Barbara Signer\n
 \nWeitere Infos: https://www.ref-unteresrheintal.ch/veranstaltung/2289
SUMMARY:Senioren-Z'Mittag
PRIORITY:5
X-MICROSOFT-CDO-IMPORTANCE:1
CLASS:PUBLIC
END:VEVENT
END:VCALENDAR
