BEGIN:VCALENDAR
PRODID:-//kirchenweb.ch gmbh//veranstaltungsausgabe v2.0//DE
VERSION:2.0
METHOD:PUBLISH
BEGIN:VEVENT
DTSTART:20261216T133000Z
DTEND:20261216T160000Z
LOCATION:Rheinausaal\, Rheindorfstrasse 1\, 9430 St.Margrethen
TRANSP:OPAQUE
SEQUENCE:0
UID:2238-veranstaltung@ref-unteresrheintal.ch
DTSTAMP:20251206T211104Z
DESCRIPTION:Die evangelische und katholische Kirchgemeinde zusammen mit
  der Frauengemeinschaft\nladen Sie und Ihre Begleitung herzlich zur
  ökumenischen Adventsfeier ein.\n\nWir verbringen einen gemütlichen\,
  besinnlichen Nachmittag miteinander.\nIm Anschluss an die feierliche
  Unterhaltung wird ein feiner Znacht serviert.\n\nDie Helferinnen der
  Frauengemeinschaft\, Pfarrerin Barbara Signer und Diakon Reinhard
 \nKnirsch freuen sich auf Ihre Teilnahme.\n\nKontakt: Barbara Signer\n
 \nWeitere Infos: https://www.ref-unteresrheintal.ch/veranstaltung/2238
SUMMARY:Ökum. Seniorenadventsfeier
PRIORITY:5
X-MICROSOFT-CDO-IMPORTANCE:1
CLASS:PUBLIC
END:VEVENT
END:VCALENDAR
