BEGIN:VCALENDAR
PRODID:-//kirchenweb.ch gmbh//veranstaltungsausgabe v2.0//DE
VERSION:2.0
METHOD:PUBLISH
BEGIN:VEVENT
DTSTART:20261126T133000Z
DTEND:20261126T163000Z
LOCATION:Vikariat St.Margrethen\, Kaplaneistrasse 2\, 9430 St.Margrethen
TRANSP:OPAQUE
SEQUENCE:0
UID:2237-veranstaltung@ref-unteresrheintal.ch
DTSTAMP:20251206T210143Z
DESCRIPTION:Die Frauengemeinschaft und die beiden Kirchgemeinden laden
  herzlich zum adventlichen Gestalten ein. Lassen Sie sich auf die
  Vorweihnachtszeit einstimmen und gestalten Sie Ihren ganz persönlichen
  Adventsschmuck.\nUnter fachkundiger Anleitung entstehen stimmungsvolle
  Adventskränze und festliche Gestecke – ganz nach Ihrem eigenen Stil\,
  ob klassisch\, natürlich oder modern. Ein Nachmittag voller
  Kreativität\, Duft von frischem Grün und geselligem Beisammensein.\n
 \nKontakt: Barbara Signer\n\nWeitere Infos:
  https://www.ref-unteresrheintal.ch/veranstaltung/2237
SUMMARY:Ökum. Seniorennachmittag: Adventliches Gestalten
PRIORITY:5
X-MICROSOFT-CDO-IMPORTANCE:1
CLASS:PUBLIC
END:VEVENT
END:VCALENDAR
