BEGIN:VCALENDAR
PRODID:-//kirchenweb.ch gmbh//veranstaltungsausgabe v2.0//DE
VERSION:2.0
METHOD:PUBLISH
BEGIN:VEVENT
DTSTART:20260924T093000Z
DTEND:20260924T103000Z
LOCATION:Vikariat St.Margrethen\, Kaplaneistrasse 2\, 9430 St.Margrethen
TRANSP:OPAQUE
SEQUENCE:0
UID:2236-veranstaltung@ref-unteresrheintal.ch
DTSTAMP:20251206T210235Z
DESCRIPTION:Programm: Gschwellti und Chäs\n\n\n\nKontakt: Barbara Signer
 \n\nWeitere Infos: https://www.ref-unteresrheintal.ch/veranstaltung/2236
SUMMARY:Ökum. Seniorenzmittag: Gschwellti und Chäs
PRIORITY:5
X-MICROSOFT-CDO-IMPORTANCE:1
CLASS:PUBLIC
END:VEVENT
END:VCALENDAR
