BEGIN:VCALENDAR
PRODID:-//kirchenweb.ch gmbh//veranstaltungsausgabe v2.0//DE
VERSION:2.0
METHOD:PUBLISH
BEGIN:VEVENT
DTSTART:20260521T110000Z
DTEND:20260521T160000Z
LOCATION:Güterbahnhof St.Margrethen\, \,
TRANSP:OPAQUE
SEQUENCE:0
UID:2235-veranstaltung@ref-unteresrheintal.ch
DTSTAMP:20251206T205719Z
DESCRIPTION:Kontakt: Barbara Signer\n\nWeitere Infos:
  https://www.ref-unteresrheintal.ch/veranstaltung/2235
SUMMARY:Ökum.Seniorenausflug: Mai-Wallfahrt - Klosterinsel Wird bei
  Eschenz
PRIORITY:5
X-MICROSOFT-CDO-IMPORTANCE:1
CLASS:PUBLIC
END:VEVENT
END:VCALENDAR
