BEGIN:VCALENDAR
PRODID:-//kirchenweb.ch gmbh//veranstaltungsausgabe v2.0//DE
VERSION:2.0
METHOD:PUBLISH
BEGIN:VEVENT
DTSTART:20260430T170000Z
DTEND:20260430T180000Z
LOCATION:Evang. Kirche St.Margrethen\, Schutzmühlestrasse\, 9430
  St.Margrethen
TRANSP:OPAQUE
SEQUENCE:0
UID:2219-veranstaltung@ref-unteresrheintal.ch
DTSTAMP:20251206T203023Z
DESCRIPTION:Am letzten Tag des Monats laden wir herzlich zur besinnlichen
  Andacht ein. \n\nKontakt: sekretariat.admin@ref-unteresrheintal.ch\n
 \nWeitere Infos: https://www.ref-unteresrheintal.ch/veranstaltung/2219
SUMMARY:Meditativer Monatsausklang
PRIORITY:5
X-MICROSOFT-CDO-IMPORTANCE:1
CLASS:PUBLIC
END:VEVENT
END:VCALENDAR
