BEGIN:VCALENDAR
PRODID:-//kirchenweb.ch gmbh//veranstaltungsausgabe v2.0//DE
VERSION:2.0
METHOD:PUBLISH
BEGIN:VEVENT
DTSTART:20260423T073000Z
DTEND:20260423T083000Z
LOCATION:Alterssiedlung Buhof\, Asylstrasse 20\, 9424 Rheineck
TRANSP:OPAQUE
SEQUENCE:0
UID:2200-veranstaltung@ref-unteresrheintal.ch
DTSTAMP:20251206T202617Z
DESCRIPTION:Kontakt: Barbara Signer\n\nWeitere Infos:
  https://www.ref-unteresrheintal.ch/veranstaltung/2200
SUMMARY:Andacht in der Alterssiedlung Buhof Rheineck
PRIORITY:5
X-MICROSOFT-CDO-IMPORTANCE:1
CLASS:PUBLIC
END:VEVENT
END:VCALENDAR
