BEGIN:VCALENDAR
PRODID:-//kirchenweb.ch gmbh//veranstaltungsausgabe v2.0//DE
VERSION:2.0
METHOD:PUBLISH
BEGIN:VEVENT
DTSTART:20261111T090000Z
DTEND:20261111T100000Z
LOCATION:Altersheim Fahr\, Fahrstrasse 11\, 9430 St. Margrethen
TRANSP:OPAQUE
SEQUENCE:0
UID:2188-veranstaltung@ref-unteresrheintal.ch
DTSTAMP:20251206T202103Z
DESCRIPTION:Kapelle im 3 Stock\n\nKontakt:
  sekretariat.admin@ref-unteresrheintal.ch\n\nWeitere Infos:
  https://www.ref-unteresrheintal.ch/veranstaltung/2188
SUMMARY:Andacht Altersheim Fahr St. Margrethen
PRIORITY:5
X-MICROSOFT-CDO-IMPORTANCE:1
CLASS:PUBLIC
END:VEVENT
END:VCALENDAR
