BEGIN:VCALENDAR
PRODID:-//kirchenweb.ch gmbh//veranstaltungsausgabe v2.0//DE
VERSION:2.0
METHOD:PUBLISH
BEGIN:VEVENT
DTSTART:20260707T083000Z
DTEND:20260707T093000Z
LOCATION:Altensteig Pflege & Wohnen\, Appenzellerstrasse 37\, 9424
  Rheineck
TRANSP:OPAQUE
SEQUENCE:0
UID:2157-veranstaltung@ref-unteresrheintal.ch
DTSTAMP:20251206T201717Z
DESCRIPTION:Kontakt: Barbara Signer\n\nWeitere Infos:
  https://www.ref-unteresrheintal.ch/veranstaltung/2157
SUMMARY:Andacht Altensteig Pflege und Wohnen Rheineck
PRIORITY:5
X-MICROSOFT-CDO-IMPORTANCE:1
CLASS:PUBLIC
END:VEVENT
END:VCALENDAR
