BEGIN:VCALENDAR
PRODID:-//kirchenweb.ch gmbh//veranstaltungsausgabe v2.0//DE
VERSION:2.0
METHOD:PUBLISH
BEGIN:VEVENT
DTSTART:20261202T090000Z
DTEND:20261202T100000Z
LOCATION:Pflegewohnheim Thal-Rheineck\, Kruft 10\, 9425 Thal
TRANSP:OPAQUE
SEQUENCE:0
UID:2144-veranstaltung@ref-unteresrheintal.ch
DTSTAMP:20251206T201116Z
DESCRIPTION:Kontakt: Barbara Signer\n\nWeitere Infos:
  https://www.ref-unteresrheintal.ch/veranstaltung/2144
SUMMARY:Andacht im Pflegewohnheim Thal-Rheineck
PRIORITY:5
X-MICROSOFT-CDO-IMPORTANCE:1
CLASS:PUBLIC
END:VEVENT
END:VCALENDAR
