BEGIN:VCALENDAR
PRODID:-//kirchenweb.ch gmbh//veranstaltungsausgabe v2.0//DE
VERSION:2.0
METHOD:PUBLISH
BEGIN:VEVENT
DTSTART:20260911T170000Z
DTEND:20260911T180000Z
LOCATION:Evang. Kirche Rheineck\, Hauptstrasse 36\, 9424 Rheineck
TRANSP:OPAQUE
SEQUENCE:0
UID:2126-veranstaltung@ref-unteresrheintal.ch
DTSTAMP:20251206T194259Z
DESCRIPTION:In der Stille zur Ruhe und zu sich selbst kommen\, sowie mit
  Gesang und Wort gestärkt in den Alltag zurückkehren\, bietet die
  schlichte meditative Feier. \n\nKontakt:
  sekretariat.admin@ref-unteresrheintal.ch\n\nWeitere Infos:
  https://www.ref-unteresrheintal.ch/veranstaltung/2126
SUMMARY:Taizé-Feier
PRIORITY:5
X-MICROSOFT-CDO-IMPORTANCE:1
CLASS:PUBLIC
END:VEVENT
END:VCALENDAR
