BEGIN:VCALENDAR
PRODID:-//kirchenweb.ch gmbh//veranstaltungsausgabe v2.0//DE
VERSION:2.0
METHOD:PUBLISH
BEGIN:VEVENT
DTSTART:20261023T070000Z
DTEND:20261023T080000Z
LOCATION:Evang. Kirche Rheineck\, Hauptstrasse 36\, 9424 Rheineck
TRANSP:OPAQUE
SEQUENCE:0
UID:2109-veranstaltung@ref-unteresrheintal.ch
DTSTAMP:20251206T193728Z
DESCRIPTION:Kontakt: sekretariat.admin@ref-unteresrheintal.ch\n\nWeitere
  Infos: https://www.ref-unteresrheintal.ch/veranstaltung/2109
SUMMARY:Morgenlob
PRIORITY:5
X-MICROSOFT-CDO-IMPORTANCE:1
CLASS:PUBLIC
END:VEVENT
END:VCALENDAR
