BEGIN:VCALENDAR
PRODID:-//kirchenweb.ch gmbh//veranstaltungsausgabe v2.0//DE
VERSION:2.0
METHOD:PUBLISH
BEGIN:VEVENT
DTSTART:20261118T130000Z
DTEND:20261118T143000Z
LOCATION:Evang. Kirchgemeindehaus Rheineck\, Kugelwisstrasse 5\, 9424
  Rheineck
TRANSP:OPAQUE
SEQUENCE:0
UID:2059-veranstaltung@ref-unteresrheintal.ch
DTSTAMP:20251206T192559Z
DESCRIPTION:In unserer ziitbar bieten wir Zeit:\n• dass Sie eine Tasse
  Tee oder Kaffee in ungezwungener Atmosphäre geniessen\n• dass Sie mit
  anderen Menschen Gemeinschaft erleben\n• dass Sie mit Ihrer Familie
  entspannen können\n• dass Sie mit unseren Mitarbeitenden ins Gespräch
  kommen\n• dass Sie sich über unsere Angebote und Veranstaltungen
  informieren\n\nBei uns sind Sie herzlich willkommen! Wir freuen uns auf
  Sie! Bis bald in der ziitbar im Foyer des KGHs!\n\nKontakt:
  sekretariat.admin@ref-unteresrheintal.ch\n\nWeitere Infos:
  https://www.ref-unteresrheintal.ch/veranstaltung/2059
SUMMARY:ziitbar
PRIORITY:5
X-MICROSOFT-CDO-IMPORTANCE:1
CLASS:PUBLIC
END:VEVENT
END:VCALENDAR
