BEGIN:VCALENDAR
PRODID:-//kirchenweb.ch gmbh//veranstaltungsausgabe v2.0//DE
VERSION:2.0
METHOD:PUBLISH
BEGIN:VEVENT
DTSTART:20260530T140000Z
DTEND:20260530T215900Z
LOCATION:Evang. Kirchgemeindehaus Rheineck\, Kugelwisstrasse 5\, 9424
  Rheineck
TRANSP:OPAQUE
SEQUENCE:0
UID:2013-veranstaltung@ref-unteresrheintal.ch
DTSTAMP:20260218T143911Z
DESCRIPTION:Nacht ohne Dach in Rheineck\n\nErfahre\, wie sich Millionen
  von Kindern in Slums und auf der Strasse Nacht für Nacht fühlen:
  obdachlos.\n\nNacht ohne Dach: Samstag\, 30. Mai bis Sonntag\, 31. Mai\n
 \nInfoabend: Mittwoch\, 29. April um 19 Uhr\n\nOrt beider Veranstaltungen:
  Evang. Kirchgemeindehaus\, Kugelwisstrasse 5\, 9424 Rheineck\n
 \nMitnehmen: Zahnbürste\, Mätteli\, Schlafsack\, warme Kleider\n\nAlter:
  1. - 3. Oberstufe\n\nAnmelden bis: 17. Mai 2026\n\nAnmelden auf
  www.pfefferstern.ch\nBei Fragen gerne an Katharina wenden.\n\nNacht ohne
  Dach ist eine Aktion von TearFund Schweiz (tearfund.ch)\n\n\nKontakt:
  Katharina Grillmeier\n\nWeitere Infos:
  https://www.ref-unteresrheintal.ch/veranstaltung/2013
SUMMARY:Nacht ohne Dach
PRIORITY:5
X-MICROSOFT-CDO-IMPORTANCE:1
CLASS:PUBLIC
END:VEVENT
END:VCALENDAR
