BEGIN:VCALENDAR
PRODID:-//kirchenweb.ch gmbh//veranstaltungsausgabe v2.0//DE
VERSION:2.0
METHOD:PUBLISH
BEGIN:VEVENT
DTSTART:20260623T180000Z
DTEND:20260623T200000Z
LOCATION:Pfarrhaussaal St.Margrethen\, Schutzmühlestrasse 3\, 9430
  St.Margrethen
TRANSP:OPAQUE
SEQUENCE:0
UID:1960-veranstaltung@ref-unteresrheintal.ch
DTSTAMP:20251014T131631Z
DESCRIPTION:Kontakt: Hanspeter Bosshard\, Präsident ökum. Kirchenchor\,
  071 888 43 68\n\nWeitere Infos:
  https://www.ref-unteresrheintal.ch/veranstaltung/1960
SUMMARY:Probe Ökumenischer Kirchenchor
PRIORITY:5
X-MICROSOFT-CDO-IMPORTANCE:1
CLASS:PUBLIC
END:VEVENT
END:VCALENDAR
