BEGIN:VCALENDAR
PRODID:-//kirchenweb.ch gmbh//veranstaltungsausgabe v2.0//DE
VERSION:2.0
METHOD:PUBLISH
BEGIN:VEVENT
DTSTART:20260706T170000Z
DTEND:20260706T180000Z
LOCATION:Evang. Kirchgemeindehaus Rheineck\, Kugelwisstrasse 5\, 9424
  Rheineck
TRANSP:OPAQUE
SEQUENCE:0
UID:1929-veranstaltung@ref-unteresrheintal.ch
DTSTAMP:20251007T082208Z
DESCRIPTION:Jedermann ist zu allen Veranstaltungen herzlich willkommen. \n
 \nhttp://www.blaueskreuz-sg-app.ch\n\n\nKontakt: Doris Sonderegger\,
  Hächleren 8 9425 Thal\, Tel. 071 755 50 43\n\nWeitere Infos:
  https://www.ref-unteresrheintal.ch/veranstaltung/1929
SUMMARY:Blaues Kreuz
PRIORITY:5
X-MICROSOFT-CDO-IMPORTANCE:1
CLASS:PUBLIC
END:VEVENT
END:VCALENDAR
