BEGIN:VCALENDAR
PRODID:-//kirchenweb.ch gmbh//veranstaltungsausgabe v2.0//DE
VERSION:2.0
METHOD:PUBLISH
BEGIN:VEVENT
DTSTART:20260913T113000Z
DTEND:20260913T143000Z
LOCATION:Kath. Pfarreiheim Altenrhein\, Wartbüchel 2a\, 9422 Staad
TRANSP:OPAQUE
SEQUENCE:0
UID:1681-veranstaltung@ref-unteresrheintal.ch
DTSTAMP:20260219T110657Z
DESCRIPTION:Kontakt: sekretariat.admin@ref-unteresrheintal.ch\n\nWeitere
  Infos: https://www.ref-unteresrheintal.ch/veranstaltung/1681
SUMMARY:Kirche Kunterbunt
PRIORITY:5
X-MICROSOFT-CDO-IMPORTANCE:1
CLASS:PUBLIC
END:VEVENT
END:VCALENDAR
